BEGIN:VCALENDAR
VERSION:2.0
PRODID:-//Robert Emmets CLG - ECPv6.15.20//NONSGML v1.0//EN
CALSCALE:GREGORIAN
METHOD:PUBLISH
X-ORIGINAL-URL:https://robertemmetsclg.com
X-WR-CALDESC:Events for Robert Emmets CLG
REFRESH-INTERVAL;VALUE=DURATION:PT1H
X-Robots-Tag:noindex
X-PUBLISHED-TTL:PT1H
BEGIN:VTIMEZONE
TZID:Europe/Dublin
BEGIN:STANDARD
TZOFFSETFROM:+0000
TZOFFSETTO:+0100
TZNAME:IST
DTSTART:20250330T010000
END:STANDARD
BEGIN:DAYLIGHT
TZOFFSETFROM:+0100
TZOFFSETTO:+0000
TZNAME:GMT
DTSTART:20251026T010000
END:DAYLIGHT
BEGIN:STANDARD
TZOFFSETFROM:+0000
TZOFFSETTO:+0100
TZNAME:IST
DTSTART:20260329T010000
END:STANDARD
BEGIN:DAYLIGHT
TZOFFSETFROM:+0100
TZOFFSETTO:+0000
TZNAME:GMT
DTSTART:20261025T010000
END:DAYLIGHT
BEGIN:STANDARD
TZOFFSETFROM:+0000
TZOFFSETTO:+0100
TZNAME:IST
DTSTART:20270328T010000
END:STANDARD
BEGIN:DAYLIGHT
TZOFFSETFROM:+0100
TZOFFSETTO:+0000
TZNAME:GMT
DTSTART:20271031T010000
END:DAYLIGHT
END:VTIMEZONE
BEGIN:VEVENT
DTSTART;TZID=Europe/Dublin:20260414T193000
DTEND;TZID=Europe/Dublin:20260414T210000
DTSTAMP:20260420T181056
CREATED:20260308T120712Z
LAST-MODIFIED:20260308T120712Z
UID:6125-1776195000-1776200400@robertemmetsclg.com
SUMMARY:2026 Committee Meeting - April
DESCRIPTION:Standing Agenda Points: \nReview of Minutes and Actions from last Committee Meeting & Coaches Meeting\nBrief Updates related to activities in the last month
URL:https://robertemmetsclg.com/event/2026-committee-meeting-april/
LOCATION:Robert Emmets GAA Club\, Perrystown & Manor Estate Community Centre\, Dublin\, Dublin\, Ireland
CATEGORIES:Committee Meetings
ATTACH;FMTTYPE=image/jpeg:https://robertemmetsclg.com/wp-content/uploads/sites/98/2024/12/committee.jpg
END:VEVENT
END:VCALENDAR