BEGIN:VCALENDAR
VERSION:2.0
PRODID:-//Robert Emmets CLG - ECPv6.15.20//NONSGML v1.0//EN
CALSCALE:GREGORIAN
METHOD:PUBLISH
X-WR-CALNAME:Robert Emmets CLG
X-ORIGINAL-URL:https://robertemmetsclg.com
X-WR-CALDESC:Events for Robert Emmets CLG
REFRESH-INTERVAL;VALUE=DURATION:PT1H
X-Robots-Tag:noindex
X-PUBLISHED-TTL:PT1H
BEGIN:VTIMEZONE
TZID:Europe/Dublin
BEGIN:STANDARD
TZOFFSETFROM:+0000
TZOFFSETTO:+0100
TZNAME:IST
DTSTART:20240331T010000
END:STANDARD
BEGIN:DAYLIGHT
TZOFFSETFROM:+0100
TZOFFSETTO:+0000
TZNAME:GMT
DTSTART:20241027T010000
END:DAYLIGHT
BEGIN:STANDARD
TZOFFSETFROM:+0000
TZOFFSETTO:+0100
TZNAME:IST
DTSTART:20250330T010000
END:STANDARD
BEGIN:DAYLIGHT
TZOFFSETFROM:+0100
TZOFFSETTO:+0000
TZNAME:GMT
DTSTART:20251026T010000
END:DAYLIGHT
BEGIN:STANDARD
TZOFFSETFROM:+0000
TZOFFSETTO:+0100
TZNAME:IST
DTSTART:20260329T010000
END:STANDARD
BEGIN:DAYLIGHT
TZOFFSETFROM:+0100
TZOFFSETTO:+0000
TZNAME:GMT
DTSTART:20261025T010000
END:DAYLIGHT
BEGIN:STANDARD
TZOFFSETFROM:+0000
TZOFFSETTO:+0100
TZNAME:IST
DTSTART:20270328T010000
END:STANDARD
BEGIN:DAYLIGHT
TZOFFSETFROM:+0100
TZOFFSETTO:+0000
TZNAME:GMT
DTSTART:20271031T010000
END:DAYLIGHT
END:VTIMEZONE
BEGIN:VEVENT
DTSTART;TZID=Europe/Dublin:20260414T193000
DTEND;TZID=Europe/Dublin:20260414T210000
DTSTAMP:20260420T170152
CREATED:20260308T120712Z
LAST-MODIFIED:20260308T120712Z
UID:6125-1776195000-1776200400@robertemmetsclg.com
SUMMARY:2026 Committee Meeting - April
DESCRIPTION:Standing Agenda Points: \nReview of Minutes and Actions from last Committee Meeting & Coaches Meeting\nBrief Updates related to activities in the last month
URL:https://robertemmetsclg.com/event/2026-committee-meeting-april/
LOCATION:Robert Emmets GAA Club\, Perrystown & Manor Estate Community Centre\, Dublin\, Dublin\, Ireland
CATEGORIES:Committee Meetings
ATTACH;FMTTYPE=image/jpeg:https://robertemmetsclg.com/wp-content/uploads/sites/98/2024/12/committee.jpg
END:VEVENT
BEGIN:VEVENT
DTSTART;TZID=Europe/Dublin:20260310T193000
DTEND;TZID=Europe/Dublin:20260310T210000
DTSTAMP:20260420T170152
CREATED:20260308T120536Z
LAST-MODIFIED:20260308T120715Z
UID:6123-1773171000-1773176400@robertemmetsclg.com
SUMMARY:2026 Committee Meeting - March
DESCRIPTION:Standing Agenda Points: \nReview of Minutes and Actions from last Committee Meeting & Coaches Meeting\nBrief Updates related to activities in the last month
URL:https://robertemmetsclg.com/event/2026-committee-meeting-march/
LOCATION:Robert Emmets GAA Club\, Perrystown & Manor Estate Community Centre\, Dublin\, Dublin\, Ireland
CATEGORIES:Committee Meetings
ATTACH;FMTTYPE=image/jpeg:https://robertemmetsclg.com/wp-content/uploads/sites/98/2024/12/committee.jpg
END:VEVENT
BEGIN:VEVENT
DTSTART;TZID=Europe/Dublin:20260210T193000
DTEND;TZID=Europe/Dublin:20260210T210000
DTSTAMP:20260420T170152
CREATED:20260127T093147Z
LAST-MODIFIED:20260127T093216Z
UID:6054-1770751800-1770757200@robertemmetsclg.com
SUMMARY:2026 Committee Meeting - February
DESCRIPTION:Standing Agenda Points: \nReview of Minutes and Actions from last Committee Meeting & Coaches Meeting\nBrief Updates related to activities in the last month
URL:https://robertemmetsclg.com/event/2026-committee-meeting-february/
LOCATION:Robert Emmets GAA Club\, Perrystown & Manor Estate Community Centre\, Dublin\, Dublin\, Ireland
CATEGORIES:Committee Meetings
ATTACH;FMTTYPE=image/jpeg:https://robertemmetsclg.com/wp-content/uploads/sites/98/2024/12/committee.jpg
ORGANIZER;CN="Robert Emmets Chairperson":MAILTO:chairperson.robertemmets.dublin@gaa.ie
END:VEVENT
BEGIN:VEVENT
DTSTART;TZID=Europe/Dublin:20260113T200000
DTEND;TZID=Europe/Dublin:20260113T210000
DTSTAMP:20260420T170152
CREATED:20251230T190254Z
LAST-MODIFIED:20260112T191052Z
UID:6002-1768334400-1768338000@robertemmetsclg.com
SUMMARY:2026 Committee Meeting - January
DESCRIPTION:Standing Agenda Points: \nReview of Minutes and Actions from last Committee Meeting & Coaches Meeting\nBrief Updates related to activities in the last month
URL:https://robertemmetsclg.com/event/2026-committee-meeting-january/
LOCATION:Robert Emmets GAA Club\, Perrystown & Manor Estate Community Centre\, Dublin\, Dublin\, Ireland
CATEGORIES:Committee Meetings
ATTACH;FMTTYPE=image/jpeg:https://robertemmetsclg.com/wp-content/uploads/sites/98/2024/12/committee.jpg
END:VEVENT
BEGIN:VEVENT
DTSTART;TZID=Europe/Dublin:20251209T193000
DTEND;TZID=Europe/Dublin:20251209T210000
DTSTAMP:20260420T170152
CREATED:20251128T193528Z
LAST-MODIFIED:20251128T193528Z
UID:5957-1765308600-1765314000@robertemmetsclg.com
SUMMARY:2025 Committee Meeting - December
DESCRIPTION:Standing Agenda Points: \nReview of Minutes and Actions from last Committee Meeting & Coaches Meeting\nBrief Updates related to activities in the last month
URL:https://robertemmetsclg.com/event/2025-committee-meeting-december/
LOCATION:Robert Emmets GAA Club\, Perrystown & Manor Estate Community Centre\, Dublin\, Dublin\, Ireland
CATEGORIES:Committee Meetings
ATTACH;FMTTYPE=image/jpeg:https://robertemmetsclg.com/wp-content/uploads/sites/98/2024/12/committee.jpg
END:VEVENT
BEGIN:VEVENT
DTSTART;TZID=Europe/Dublin:20251014T193000
DTEND;TZID=Europe/Dublin:20251014T210000
DTSTAMP:20260420T170152
CREATED:20250629T120206Z
LAST-MODIFIED:20250629T120206Z
UID:5422-1760470200-1760475600@robertemmetsclg.com
SUMMARY:2025 Committee Meeting - October
DESCRIPTION:Standing Agenda Points: \n\nReview of Minutes and Actions from last Committee Meeting & Coaches Meeting\nBrief Updates related to activities in the last month
URL:https://robertemmetsclg.com/event/2025-committee-meeting-october/
LOCATION:Robert Emmets GAA Club\, Perrystown & Manor Estate Community Centre\, Dublin\, Dublin\, Ireland
CATEGORIES:Committee Meetings
ATTACH;FMTTYPE=image/jpeg:https://robertemmetsclg.com/wp-content/uploads/sites/98/2024/12/committee.jpg
END:VEVENT
BEGIN:VEVENT
DTSTART;TZID=Europe/Dublin:20250911T193000
DTEND;TZID=Europe/Dublin:20250911T210000
DTSTAMP:20260420T170152
CREATED:20250629T114931Z
LAST-MODIFIED:20250816T093600Z
UID:5413-1757619000-1757624400@robertemmetsclg.com
SUMMARY:2025 Committee Meeting - Sept
DESCRIPTION:Standing Agenda Points: \n\nReview of Minutes and Actions from last Committee Meeting & Coaches Meeting\nBrief Updates related to activities in the last month
URL:https://robertemmetsclg.com/event/2025-committee-meeting-sept/
LOCATION:Robert Emmets GAA Club\, Perrystown & Manor Estate Community Centre\, Dublin\, Dublin\, Ireland
CATEGORIES:Committee Meetings
ATTACH;FMTTYPE=image/jpeg:https://robertemmetsclg.com/wp-content/uploads/sites/98/2024/12/committee.jpg
END:VEVENT
BEGIN:VEVENT
DTSTART;TZID=Europe/Dublin:20250812T193000
DTEND;TZID=Europe/Dublin:20250812T210000
DTSTAMP:20260420T170152
CREATED:20250629T114813Z
LAST-MODIFIED:20250811T200013Z
UID:5410-1755027000-1755032400@robertemmetsclg.com
SUMMARY:2025 Committee Meeting - August
DESCRIPTION:Standing Agenda Points: \n\nReview of Minutes and Actions from last Committee Meeting & Coaches Meeting\nBrief Updates related to activities in the last month
URL:https://robertemmetsclg.com/event/2025-committee-meetings-august/
LOCATION:Declan Kerin’s Home\, By invite
CATEGORIES:Committee Meetings
ATTACH;FMTTYPE=image/jpeg:https://robertemmetsclg.com/wp-content/uploads/sites/98/2024/12/committee.jpg
END:VEVENT
BEGIN:VEVENT
DTSTART;TZID=Europe/Dublin:20250708T193000
DTEND;TZID=Europe/Dublin:20250708T210000
DTSTAMP:20260420T170152
CREATED:20250618T220642Z
LAST-MODIFIED:20250618T220642Z
UID:5367-1752003000-1752008400@robertemmetsclg.com
SUMMARY:2025 Committee Meeting - July
DESCRIPTION:Standing Agenda Points: \n\nReview of Minutes and Actions from last Committee Meeting & Coaches Meeting\nBrief Updates related to activities in the last month
URL:https://robertemmetsclg.com/event/2025-committee-meeting-july/
LOCATION:Robert Emmets GAA Club\, Perrystown & Manor Estate Community Centre\, Dublin\, Dublin\, Ireland
CATEGORIES:Committee Meetings
ATTACH;FMTTYPE=image/jpeg:https://robertemmetsclg.com/wp-content/uploads/sites/98/2024/12/committee.jpg
END:VEVENT
BEGIN:VEVENT
DTSTART;TZID=Europe/Dublin:20250612T200000
DTEND;TZID=Europe/Dublin:20250612T210000
DTSTAMP:20260420T170152
CREATED:20250520T142507Z
LAST-MODIFIED:20250612T143734Z
UID:5171-1749758400-1749762000@robertemmetsclg.com
SUMMARY:2025 Committee Meetings - June
DESCRIPTION:Standing Agenda Points: \n\nReview of Minutes and Actions from last Committee Meeting & Coaches Meeting\nBrief Updates related to activities in the last month\nCul Camp Organisation including vetting and safeguarding priorities\n\nProgress\n\n\nDunnes Bag Packing Fundraiser – Feedback\nOther items: https://robertemmetsclg.com/wp-content/uploads/sites/98/2025/06/Robert-Emmets-Committee-Meeting-June-25-DRAFT.pdf
URL:https://robertemmetsclg.com/event/2025-committee-meetings-june/
LOCATION:Declan Kerin’s Home\, By invite
CATEGORIES:Committee Meetings
ATTACH;FMTTYPE=image/jpeg:https://robertemmetsclg.com/wp-content/uploads/sites/98/2024/12/committee.jpg
END:VEVENT
BEGIN:VEVENT
DTSTART;TZID=Europe/Dublin:20250515T193000
DTEND;TZID=Europe/Dublin:20250515T210000
DTSTAMP:20260420T170152
CREATED:20250430T210911Z
LAST-MODIFIED:20250513T191018Z
UID:4961-1747337400-1747342800@robertemmetsclg.com
SUMMARY:2025 Committee Meetings - May
DESCRIPTION:Standing Agenda Points: \n\nReview of Minutes and Actions from last Committee Meeting & Coaches Meeting\nBrief Updates related to activities in the last 2 weeks\nCul Camp Organisation including vetting and safeguarding priorities\nDunnes Bag Packing Fundraiser
URL:https://robertemmetsclg.com/event/2025-committee-meetings-may/
LOCATION:The Pines Public House\, Whitehall Road\, Ireland
CATEGORIES:Committee Meetings
ATTACH;FMTTYPE=image/jpeg:https://robertemmetsclg.com/wp-content/uploads/sites/98/2024/12/committee.jpg
END:VEVENT
BEGIN:VEVENT
DTSTART;TZID=Europe/Dublin:20250429T193000
DTEND;TZID=Europe/Dublin:20250429T210000
DTSTAMP:20260420T170152
CREATED:20250311T203216Z
LAST-MODIFIED:20250428T145106Z
UID:4120-1745955000-1745960400@robertemmetsclg.com
SUMMARY:2025 Committee Events - April
DESCRIPTION:Standing Agenda Points: \n\nReview of Minutes and Actions from last Committee Meeting & Coaches Meeting\n2025 Fundraisers & Sponsorship Drive\n\nWork in Progress:\n\nMinors Team Sponsorship – Neil to action\nAffiliate Sponsorship – Physio on Whitehall Road – Neil to action\nEoin & Des Marathon – Support and promote with a target of at least €2\,000\n\n\nA1 Tradesmen\n\nBanner for Academy – Neil to action – Done\nWeekly Social Media posts are in progress – Jack to action – Done\nDrone footage to be organised – Jack to action – Overdue\n\n\nDublin Maths affiliate sponsorship agreement. Went Live: First payments received\nBag Packing – Dunnes\n\nClub insurance cert required – provided\nDates to be confirmed\nTeams involved to be confirmed\nAdults required\nStripe Touch to Payment & QR codes to be setup for all adults\n\n\nCul Camp\n\nPromotion and identification of resources required – ASAP – Action for Declan\n\n\nContacting & Following Up on Volunteers\n\nAs part of membership\, we ask if anyone wishes to volunteer with club activities.  We received 18 notes of interest and these require follow up – Action for Declan\n\n\n\n\nPRO Handover\n\nHandover overdue – Action for Jack\n\n\nChild Safeguarding\n\nContinue to have a major gap both Garda Vetting and Child Safeguarding Training Level 1\nThese are mandatory for ALL COACHES and anyone that may be supporting the younger teams\nAction plan and identification of all people that need trained and dates/times of when this will be closed is required\n\n\n5 Year Strategy\n\nAodh O’Connor to introduce GAA Healthy Clubs Initiative and plans for Robert Emmets to join\nReview of 2023/24 Finances – Operational Costs vs 2025 Projected Costs vs Income\nCost of Registration (Cost to Club vs Cost to Member)\nGPO activities\n\nCost vs Return and review of membership stats related to schools\nTarget for membership push in the coming months (summer) and years ahead\n\n\n2025 Team Entertainment Budget – Propose €250 pre-approved Budget for ALL Teams\n\nReview of 2023/24 Expenses revealed an imbalance on entertainment spend\nTo provide equity and for club/team building\, suggest that ALL Teams will be given a €250 per year budget that they can spend on team event(s).\nThis does not include special events such as Winner Competitions or Xmas/Halloween etc.\nThese expenses can be obtained via a new Robert Emmets Expense form\nPROPOSAL – Vote Required\n\n\n\n\nImplementation of Club Lotto\n\nReview of Sales\n\n\nReview of Club App onboarding\n\nWhich teams went live on 1st April & Next Teams – gaps\nReview of membership\n\nAll members MUST be paid and registered by end of March (Male & Female – all ages)\n\n\n\n\nFollow-up discussion on Club Branding\n\nKit Supplier will be O’Neills for 2025\nClub Shop – Go-Live\nOpen order for 60 Academy Jerseys\, Balls & Sliotars provided by A1 Tradesmen\nCoaches Gear – Proposal – Vote Required\n\nProvide Coaches Jacket for ALL Managers & Coaches across the club so everyone looks the same\nDesign is up on the Club Shop\nThis jacket will be FREE to all registered Coaches (Non Playing Member/Player)\n\n\nU12s Boys Football – €500 Donation from March\n\nRequest from donor that this money is a contribution towards half zip or similar for U12s (Paul Tully’s team)\n\n\nNote 1: Assist teams with purchases to remove duplication of effort and misaligned branding\nNote 2: Kit purchasing should pass via the club accounts to capture fundraising/cash flow and for compliance
URL:https://robertemmetsclg.com/event/2025-committee-events-april/
LOCATION:Robert Emmets GAA Club\, Perrystown & Manor Estate Community Centre\, Dublin\, Dublin\, Ireland
CATEGORIES:Committee Meetings
ATTACH;FMTTYPE=image/jpeg:https://robertemmetsclg.com/wp-content/uploads/sites/98/2024/12/committee.jpg
END:VEVENT
BEGIN:VEVENT
DTSTART;TZID=Europe/Dublin:20250320T190000
DTEND;TZID=Europe/Dublin:20250320T200000
DTSTAMP:20260420T170152
CREATED:20241211T234431Z
LAST-MODIFIED:20250319T111003Z
UID:2575-1742497200-1742500800@robertemmetsclg.com
SUMMARY:2025 Committee Events - March
DESCRIPTION:Standing Agenda Points:\n\nReview of Minutes and Actions from last Committee Meeting & Coaches Meeting\n2025 Fundraisers & Sponsorship Drive\n\nSigned Dublin Maths affiliate sponsorship agreement. Go-live w/c 17th March\nDonation of €500\nBag Packing – Dunnes (club insurance cert required)\n\n\n\n\n5 Year Strategy – Introduction\n\nReview of 2023/24 Finances – Operational Costs vs 2025 Projected Costs vs Income\nCost of Registration (Cost to Club vs Cost to Member)\n\n\nImplementation of Club Lotto\n\nReview of Go-Live\n\n\nReview of GAA National Draw Final Sales\nReview of Club App onboarding\n\nWhich teams will go-live by end of March\n\n\nReview of membership\n\nAll members MUST be paid and registered by end of March (Male & Female – all ages)\nAll LGFA fees must be paid by 31st March – funding to be transferred to Foireann\nNo discounts for LGFA players joining later in the year as the club has to pay full fees regardless\nRe-start Ladies team for friendly/challenge matches\n\n\nFollow-up discussion on Club Branding\n\nKit Supplier\n\nReduce and simplify.\nCurrently 4 suppliers of kit. Select a single supplier?\n\n\nAssist teams with purchases to remove duplication of effort and misaligned branding\n\n\nKit purchasing should pass via the club accounts to capture fundraising/cash flow and for compliance\nClub Shop\n\nSingle club shop with club commission to raise funds
URL:https://robertemmetsclg.com/event/2025-committee-events-march/
LOCATION:Robert Emmets GAA Club\, Perrystown & Manor Estate Community Centre\, Dublin\, Dublin\, Ireland
CATEGORIES:Committee Meetings
ATTACH;FMTTYPE=image/jpeg:https://robertemmetsclg.com/wp-content/uploads/sites/98/2024/12/committee.jpg
END:VEVENT
BEGIN:VEVENT
DTSTART;TZID=Europe/Dublin:20250116T193000
DTEND;TZID=Europe/Dublin:20250116T210000
DTSTAMP:20260420T170152
CREATED:20241210T235110Z
LAST-MODIFIED:20250113T181010Z
UID:2285-1737055800-1737061200@robertemmetsclg.com
SUMMARY:2025 Committee Events - January
DESCRIPTION:January Committee Meeting – Confirmed \nAgenda – January 2025 \n\nMinutes and Open Actions from last Committee Meeting\n\nRoles and Responsibilities of PRO\, Registrar and Child Protection Officer including Handover and Access to club resources.\n\n\n2025 Events – Committees & Fundraisers\n\nInitial review of suggested sessions:\n\n2nd Thursday of every month – Committee Meeting\n1st Thursday of every month – Coaches Meeting\n\n\nFrom the Coaches Meeting: A suggestion per coach on how their team can help fundraising for the club/their team\nClub vs Team philosophy: All monies must pass through the Club Finances and committee will approve the spend.  Note: This must be light touch governance as we look to develop a “one club philosophy” for raising and spending of club funds. More on this at the Feb Committee meeting.\nSpecific topic brought forward from March Committee schedule – Kit purchase\, supplier and process (Des Hurling Team)\n\n\nImplementation of Club Lotto\n\nFunding for prizes\nTicket/lines and number strategy\nLucky Dip etc.\nAdvertising in local pubs etc.? Post winning numbers\, jackpot etc.\, QR code to drive custom.\n\n\nFuture Club Branding Strategy for Website and Social Media channels\n\nDrive posts from Website to Social Media or vice versa? What about the move to the Club App? Responsible people for doing posts\nFeedback on content of website and additional content\nTeams page – need manager/coaches names and team pic\n\n\nAligned strategy for Club Website and Social Media channels\n\nMain Sponsors & Partners\n\nDo we have a logo and links to ih Services (Sponsor of Dads & Lads)?\nA1 Tradesmen logo and when and where to use? Website\, Facebook & IG posts?\nRemove Crossan Landscaping from page or are they paying for advertising?\n\n\n\n\nA1 Tradesmen Sponsorship – plans for investment?\n\nMore sponsorship – Pines\, Laurels\, Cherrytree\, O’Connors\, Ian’s Kitchen\, Spar\, Griffin Print\, Centra etc….\n\n\nGo-Live of 2025 Membership\nAdoption of Clubforce App – Pilot with Teams?\nCul Camp 2025 (and other camps) – Dates\, coaches etc. Start preparations\nGAA National Draw sales update\nAny other business\nDraft Agenda for February Committee Meeting
URL:https://robertemmetsclg.com/event/2025-committee-events/
LOCATION:Robert Emmets GAA Club\, Perrystown & Manor Estate Community Centre\, Dublin\, Dublin\, Ireland
CATEGORIES:Committee Meetings
ATTACH;FMTTYPE=image/jpeg:https://robertemmetsclg.com/wp-content/uploads/sites/98/2024/12/committee.jpg
END:VEVENT
END:VCALENDAR